Package: SIMLR Version: 1.30.0 Command: E:\biocbuild\bbs-3.19-bioc\R\bin\R.exe CMD INSTALL SIMLR StartedAt: 2024-10-16 16:04:13 -0400 (Wed, 16 Oct 2024) EndedAt: 2024-10-16 16:04:48 -0400 (Wed, 16 Oct 2024) EllapsedTime: 35.4 seconds RetCode: 0 Status: OK