Package: SIMLR Version: 1.30.0 Command: /Library/Frameworks/R.framework/Resources/bin/R CMD build --keep-empty-dirs --no-resave-data SIMLR StartedAt: 2024-06-09 18:12:55 -0400 (Sun, 09 Jun 2024) EndedAt: 2024-06-09 18:15:31 -0400 (Sun, 09 Jun 2024) EllapsedTime: 155.6 seconds RetCode: 0 Status: OK PackageFile: SIMLR_1.30.0.tar.gz PackageFileSize: 4.1 MiB