Package: SIMLR Version: 1.30.0 Command: rm -rf SIMLR.buildbin-libdir && mkdir SIMLR.buildbin-libdir && /Users/biocbuild/BBS/utils/build-universal.sh SIMLR_1.30.0.tar.gz /Library/Frameworks/R.framework/Resources/bin/R SIMLR.buildbin-libdir StartedAt: 2024-06-10 00:40:23 -0400 (Mon, 10 Jun 2024) EndedAt: 2024-06-10 00:41:00 -0400 (Mon, 10 Jun 2024) EllapsedTime: 36.4 seconds RetCode: 0 Status: OK PackageFile: SIMLR_1.30.0.tgz PackageFileSize: 4.24 MiB