Package: SIMD Version: 1.22.0 Command: /Library/Frameworks/R.framework/Resources/bin/R CMD build --keep-empty-dirs --no-resave-data SIMD StartedAt: 2024-10-16 23:22:37 -0400 (Wed, 16 Oct 2024) EndedAt: 2024-10-16 23:23:03 -0400 (Wed, 16 Oct 2024) EllapsedTime: 26.0 seconds RetCode: 0 Status: OK PackageFile: SIMD_1.22.0.tar.gz PackageFileSize: 332.9 KiB