Package: SIMD Version: 1.22.0 Command: rm -rf SIMD.buildbin-libdir && mkdir SIMD.buildbin-libdir && /Users/biocbuild/BBS/utils/build-universal.sh SIMD_1.22.0.tar.gz /Library/Frameworks/R.framework/Resources/bin/R SIMD.buildbin-libdir StartedAt: 2024-10-17 17:13:03 -0400 (Thu, 17 Oct 2024) EndedAt: 2024-10-17 17:13:11 -0400 (Thu, 17 Oct 2024) EllapsedTime: 8.6 seconds RetCode: 0 Status: OK PackageFile: SIMD_1.22.0.tgz PackageFileSize: 376.3 KiB