Package: SIMD Version: 1.22.0 Command: /Library/Frameworks/R.framework/Resources/bin/R CMD build --keep-empty-dirs --no-resave-data SIMD StartedAt: 2024-06-09 18:12:51 -0400 (Sun, 09 Jun 2024) EndedAt: 2024-06-09 18:13:04 -0400 (Sun, 09 Jun 2024) EllapsedTime: 13.4 seconds RetCode: 0 Status: OK PackageFile: SIMD_1.22.0.tar.gz PackageFileSize: 332.8 KiB