Package: SIMD Version: 1.22.0 Command: rm -rf SIMD.buildbin-libdir && mkdir SIMD.buildbin-libdir && /Users/biocbuild/BBS/utils/build-universal.sh SIMD_1.22.0.tar.gz /Library/Frameworks/R.framework/Resources/bin/R SIMD.buildbin-libdir StartedAt: 2024-06-10 00:40:23 -0400 (Mon, 10 Jun 2024) EndedAt: 2024-06-10 00:40:31 -0400 (Mon, 10 Jun 2024) EllapsedTime: 8.1 seconds RetCode: 0 Status: OK PackageFile: SIMD_1.22.0.tgz PackageFileSize: 376.4 KiB