Package: SIMAT Version: 1.36.0 Command: E:\biocbuild\bbs-3.19-bioc\R\bin\R.exe CMD INSTALL SIMAT StartedAt: 2024-10-16 16:22:30 -0400 (Wed, 16 Oct 2024) EndedAt: 2024-10-16 16:22:45 -0400 (Wed, 16 Oct 2024) EllapsedTime: 15.1 seconds RetCode: 0 Status: OK