Package: SIMAT Version: 1.36.0 Command: F:\biocbuild\bbs-3.19-bioc\R\bin\R.exe CMD INSTALL SIMAT StartedAt: 2024-06-26 15:58:04 -0400 (Wed, 26 Jun 2024) EndedAt: 2024-06-26 15:58:20 -0400 (Wed, 26 Jun 2024) EllapsedTime: 15.4 seconds RetCode: 0 Status: OK