Package: SIMAT Version: 1.36.0 Command: chmod a+r SIMAT -R && F:\biocbuild\bbs-3.19-bioc\R\bin\R.exe CMD build --keep-empty-dirs --no-resave-data SIMAT StartedAt: 2024-06-26 21:58:18 -0400 (Wed, 26 Jun 2024) EndedAt: 2024-06-26 21:58:53 -0400 (Wed, 26 Jun 2024) EllapsedTime: 35.0 seconds RetCode: 0 Status: OK PackageFile: SIMAT_1.36.0.tar.gz PackageFileSize: 1002 KiB