Package: SIMAT Version: 1.36.0 Command: /home/biocbuild/bbs-3.19-bioc/R/bin/R CMD build --keep-empty-dirs --no-resave-data SIMAT StartedAt: 2024-10-16 20:51:21 -0400 (Wed, 16 Oct 2024) EndedAt: 2024-10-16 20:51:39 -0400 (Wed, 16 Oct 2024) EllapsedTime: 18.0 seconds RetCode: 0 Status: OK PackageFile: SIMAT_1.36.0.tar.gz PackageFileSize: 1001 KiB