Package: SIMAT Version: 1.36.0 Command: /Library/Frameworks/R.framework/Resources/bin/R CMD build --keep-empty-dirs --no-resave-data SIMAT StartedAt: 2024-06-09 18:12:44 -0400 (Sun, 09 Jun 2024) EndedAt: 2024-06-09 18:13:10 -0400 (Sun, 09 Jun 2024) EllapsedTime: 25.7 seconds RetCode: 0 Status: OK PackageFile: SIMAT_1.36.0.tar.gz PackageFileSize: 1.037 MiB