Package: SIMAT Version: 1.36.0 Command: /home/biocbuild/R/R-beta-2024-04-15_r86425/bin/R CMD build --keep-empty-dirs --no-resave-data SIMAT StartedAt: 2024-05-09 03:37:52 -0000 (Thu, 09 May 2024) EndedAt: 2024-05-09 03:38:13 -0000 (Thu, 09 May 2024) EllapsedTime: 21.0 seconds RetCode: 0 Status: OK PackageFile: SIMAT_1.36.0.tar.gz PackageFileSize: 1.033 MiB