Package: SIMAT Version: 1.36.0 Command: /Library/Frameworks/R.framework/Resources/bin/R CMD INSTALL SIMAT StartedAt: 2024-10-16 16:02:10 -0400 (Wed, 16 Oct 2024) EndedAt: 2024-10-16 16:02:19 -0400 (Wed, 16 Oct 2024) EllapsedTime: 9.3 seconds RetCode: 0 Status: OK