Package: SIMAT Version: 1.36.0 Command: /Library/Frameworks/R.framework/Resources/bin/R CMD check --install=check:SIMAT.install-out.txt --library=/Library/Frameworks/R.framework/Resources/library --no-vignettes --timings SIMAT_1.36.0.tar.gz StartedAt: 2024-10-18 12:27:48 -0400 (Fri, 18 Oct 2024) EndedAt: 2024-10-18 12:29:14 -0400 (Fri, 18 Oct 2024) EllapsedTime: 85.9 seconds RetCode: 0 Status: OK CheckDir: SIMAT.Rcheck Warnings: 0