Package: SIMAT Version: 1.36.0 Command: rm -rf SIMAT.buildbin-libdir && mkdir SIMAT.buildbin-libdir && /Users/biocbuild/BBS/utils/build-universal.sh SIMAT_1.36.0.tar.gz /Library/Frameworks/R.framework/Resources/bin/R SIMAT.buildbin-libdir StartedAt: 2024-10-15 20:19:29 -0400 (Tue, 15 Oct 2024) EndedAt: 2024-10-15 20:19:42 -0400 (Tue, 15 Oct 2024) EllapsedTime: 12.4 seconds RetCode: 0 Status: OK PackageFile: SIMAT_1.36.0.tgz PackageFileSize: 1.141 MiB