Package: SIM Version: 1.74.0 Command: E:\biocbuild\bbs-3.19-bioc\R\bin\R.exe CMD check --no-multiarch --install=check:SIM.install-out.txt --library=E:\biocbuild\bbs-3.19-bioc\R\library --no-vignettes --timings SIM_1.74.0.tar.gz StartedAt: 2024-10-17 05:48:16 -0400 (Thu, 17 Oct 2024) EndedAt: 2024-10-17 05:51:02 -0400 (Thu, 17 Oct 2024) EllapsedTime: 165.1 seconds RetCode: 0 Status: WARNINGS CheckDir: SIM.Rcheck Warnings: 1