Package: SIM Version: 1.74.0 Command: F:\biocbuild\bbs-3.19-bioc\R\bin\R.exe CMD check --no-multiarch --install=check:SIM.install-out.txt --library=F:\biocbuild\bbs-3.19-bioc\R\library --no-vignettes --timings SIM_1.74.0.tar.gz StartedAt: 2024-06-27 06:12:53 -0400 (Thu, 27 Jun 2024) EndedAt: 2024-06-27 06:15:46 -0400 (Thu, 27 Jun 2024) EllapsedTime: 172.5 seconds RetCode: 0 Status: WARNINGS CheckDir: SIM.Rcheck Warnings: 1