Package: SIM Version: 1.74.0 Command: chmod a+r SIM -R && F:\biocbuild\bbs-3.19-bioc\R\bin\R.exe CMD build --keep-empty-dirs --no-resave-data SIM StartedAt: 2024-06-26 21:58:15 -0400 (Wed, 26 Jun 2024) EndedAt: 2024-06-26 21:59:11 -0400 (Wed, 26 Jun 2024) EllapsedTime: 55.9 seconds RetCode: 0 Status: OK PackageFile: SIM_1.74.0.tar.gz PackageFileSize: 323.3 KiB