Package: SIM Version: 1.74.0 Command: rm -rf SIM.buildbin-libdir && mkdir SIM.buildbin-libdir && F:\biocbuild\bbs-3.19-bioc\R\bin\R.exe CMD INSTALL --build --library=SIM.buildbin-libdir SIM_1.74.0.tar.gz StartedAt: 2024-06-27 08:55:59 -0400 (Thu, 27 Jun 2024) EndedAt: 2024-06-27 08:56:28 -0400 (Thu, 27 Jun 2024) EllapsedTime: 28.5 seconds RetCode: 0 Status: OK PackageFile: SIM_1.74.0.zip PackageFileSize: 487.7 KiB