Package: SIM Version: 1.74.0 Command: /home/biocbuild/bbs-3.19-bioc/R/bin/R CMD check --install=check:SIM.install-out.txt --library=/home/biocbuild/bbs-3.19-bioc/R/site-library --timings SIM_1.74.0.tar.gz StartedAt: 2024-10-17 05:09:44 -0400 (Thu, 17 Oct 2024) EndedAt: 2024-10-17 05:12:18 -0400 (Thu, 17 Oct 2024) EllapsedTime: 153.3 seconds RetCode: 0 Status: WARNINGS CheckDir: SIM.Rcheck Warnings: 1