Package: SIM Version: 1.74.0 Command: /home/biocbuild/bbs-3.19-bioc/R/bin/R CMD build --keep-empty-dirs --no-resave-data SIM StartedAt: 2024-10-16 20:51:13 -0400 (Wed, 16 Oct 2024) EndedAt: 2024-10-16 20:51:48 -0400 (Wed, 16 Oct 2024) EllapsedTime: 35.1 seconds RetCode: 0 Status: OK PackageFile: SIM_1.74.0.tar.gz PackageFileSize: 321.6 KiB