Package: SIM Version: 1.74.0 Command: /Library/Frameworks/R.framework/Resources/bin/R CMD build --keep-empty-dirs --no-resave-data SIM StartedAt: 2024-10-16 23:22:12 -0400 (Wed, 16 Oct 2024) EndedAt: 2024-10-16 23:24:16 -0400 (Wed, 16 Oct 2024) EllapsedTime: 123.8 seconds RetCode: 0 Status: OK PackageFile: SIM_1.74.0.tar.gz PackageFileSize: 461.5 KiB