Package: SIM Version: 1.74.0 Command: rm -rf SIM.buildbin-libdir && mkdir SIM.buildbin-libdir && /Users/biocbuild/BBS/utils/build-universal.sh SIM_1.74.0.tar.gz /Library/Frameworks/R.framework/Resources/bin/R SIM.buildbin-libdir StartedAt: 2024-10-17 17:12:52 -0400 (Thu, 17 Oct 2024) EndedAt: 2024-10-17 17:13:42 -0400 (Thu, 17 Oct 2024) EllapsedTime: 50.4 seconds RetCode: 0 Status: OK PackageFile: SIM_1.74.0.tgz PackageFileSize: 616.2 KiB