Package: SIM Version: 1.74.0 Command: /home/biocbuild/R/R-beta-2024-04-15_r86425/bin/R CMD check --install=check:SIM.install-out.txt --library=/home/biocbuild/R/R-beta-2024-04-15_r86425/site-library --no-vignettes --timings SIM_1.74.0.tar.gz StartedAt: 2024-05-09 11:59:49 -0000 (Thu, 09 May 2024) EndedAt: 2024-05-09 12:02:49 -0000 (Thu, 09 May 2024) EllapsedTime: 179.4 seconds RetCode: 0 Status: WARNINGS CheckDir: SIM.Rcheck Warnings: 1