Package: SIM Version: 1.74.0 Command: /Library/Frameworks/R.framework/Resources/bin/R CMD check --install=check:SIM.install-out.txt --library=/Library/Frameworks/R.framework/Resources/library --no-vignettes --timings SIM_1.74.0.tar.gz StartedAt: 2024-06-11 05:43:50 -0400 (Tue, 11 Jun 2024) EndedAt: 2024-06-11 05:48:10 -0400 (Tue, 11 Jun 2024) EllapsedTime: 260.3 seconds RetCode: 0 Status: WARNINGS CheckDir: SIM.Rcheck Warnings: 1