Package: SIM Version: 1.74.0 Command: rm -rf SIM.buildbin-libdir && mkdir SIM.buildbin-libdir && /Users/biocbuild/BBS/utils/build-universal.sh SIM_1.74.0.tar.gz /Library/Frameworks/R.framework/Resources/bin/R SIM.buildbin-libdir StartedAt: 2024-06-11 13:15:50 -0400 (Tue, 11 Jun 2024) EndedAt: 2024-06-11 13:16:29 -0400 (Tue, 11 Jun 2024) EllapsedTime: 38.8 seconds RetCode: 0 Status: OK PackageFile: SIM_1.74.0.tgz PackageFileSize: 615.9 KiB