Package: SIM Version: 1.74.0 Command: /Library/Frameworks/R.framework/Resources/bin/R CMD check --install=check:SIM.install-out.txt --library=/Library/Frameworks/R.framework/Resources/library --no-vignettes --timings SIM_1.74.0.tar.gz StartedAt: 2024-10-18 12:26:23 -0400 (Fri, 18 Oct 2024) EndedAt: 2024-10-18 12:29:24 -0400 (Fri, 18 Oct 2024) EllapsedTime: 181.2 seconds RetCode: 0 Status: WARNINGS CheckDir: SIM.Rcheck Warnings: 1