Package: SIM Version: 1.74.0 Maintainer: Renee X. de Menezes MaintainerEmail: r.menezes at nki.nl git_url: https://git.bioconductor.org/packages/SIM git_branch: RELEASE_3_19 git_last_commit: 1496b0c git_last_commit_date: 2024-04-30 10:18:16 -0400 (Tue, 30 Apr 2024)