Package: SICtools Version: 1.34.0 Command: rm -rf SICtools.buildbin-libdir && mkdir SICtools.buildbin-libdir && /Users/biocbuild/BBS/utils/build-universal.sh SICtools_1.34.0.tar.gz /Library/Frameworks/R.framework/Resources/bin/R SICtools.buildbin-libdir StartedAt: 2024-10-17 17:12:17 -0400 (Thu, 17 Oct 2024) EndedAt: 2024-10-17 17:13:35 -0400 (Thu, 17 Oct 2024) EllapsedTime: 77.5 seconds RetCode: 0 Status: OK PackageFile: SICtools_1.34.0.tgz PackageFileSize: 1.329 MiB