Package: SICtools Version: 1.34.0 Command: /Library/Frameworks/R.framework/Resources/bin/R CMD check --install=check:SICtools.install-out.txt --library=/Library/Frameworks/R.framework/Resources/library --no-vignettes --timings SICtools_1.34.0.tar.gz StartedAt: 2024-06-09 23:04:39 -0400 (Sun, 09 Jun 2024) EndedAt: 2024-06-09 23:06:32 -0400 (Sun, 09 Jun 2024) EllapsedTime: 113.1 seconds RetCode: 0 Status: WARNINGS CheckDir: SICtools.Rcheck Warnings: 1