Package: SICtools Version: 1.34.0 Command: rm -rf SICtools.buildbin-libdir && mkdir SICtools.buildbin-libdir && /Users/biocbuild/BBS/utils/build-universal.sh SICtools_1.34.0.tar.gz /Library/Frameworks/R.framework/Resources/bin/R SICtools.buildbin-libdir StartedAt: 2024-06-10 00:40:00 -0400 (Mon, 10 Jun 2024) EndedAt: 2024-06-10 00:40:49 -0400 (Mon, 10 Jun 2024) EllapsedTime: 49.0 seconds RetCode: 0 Status: OK PackageFile: SICtools_1.34.0.tgz PackageFileSize: 1.329 MiB