Package: SICtools Version: 1.34.0 Command: /home/biocbuild/R/R-beta-2024-04-15_r86425/bin/R CMD check --install=check:SICtools.install-out.txt --library=/home/biocbuild/R/R-beta-2024-04-15_r86425/site-library --no-vignettes --timings SICtools_1.34.0.tar.gz StartedAt: 2024-05-09 11:56:30 -0000 (Thu, 09 May 2024) EndedAt: 2024-05-09 11:58:48 -0000 (Thu, 09 May 2024) EllapsedTime: 138.2 seconds RetCode: 0 Status: WARNINGS CheckDir: SICtools.Rcheck Warnings: 1