Package: SICtools Version: 1.34.0 Command: /Library/Frameworks/R.framework/Resources/bin/R CMD build --keep-empty-dirs --no-resave-data SICtools StartedAt: 2024-06-10 04:50:20 -0400 (Mon, 10 Jun 2024) EndedAt: 2024-06-10 04:51:26 -0400 (Mon, 10 Jun 2024) EllapsedTime: 66.2 seconds RetCode: 0 Status: OK PackageFile: SICtools_1.34.0.tar.gz PackageFileSize: 1.531 MiB