Package: SICtools Version: 1.34.0 Maintainer: Xiaobin Xing MaintainerEmail: xiaobinxing0316 at gmail.com git_url: https://git.bioconductor.org/packages/SICtools git_branch: RELEASE_3_19 git_last_commit: 5d88961 git_last_commit_date: 2024-04-30 10:46:12 -0400 (Tue, 30 Apr 2024)