Package: SIAMCAT Version: 2.8.0 Command: E:\biocbuild\bbs-3.19-bioc\R\bin\R.exe CMD INSTALL SIAMCAT StartedAt: 2024-10-16 17:05:28 -0400 (Wed, 16 Oct 2024) EndedAt: 2024-10-16 17:06:41 -0400 (Wed, 16 Oct 2024) EllapsedTime: 73.2 seconds RetCode: 0 Status: OK