Package: SIAMCAT Version: 2.8.0 Command: rm -rf SIAMCAT.buildbin-libdir && mkdir SIAMCAT.buildbin-libdir && E:\biocbuild\bbs-3.19-bioc\R\bin\R.exe CMD INSTALL --build --library=SIAMCAT.buildbin-libdir SIAMCAT_2.8.0.tar.gz StartedAt: 2024-10-17 08:38:32 -0400 (Thu, 17 Oct 2024) EndedAt: 2024-10-17 08:40:02 -0400 (Thu, 17 Oct 2024) EllapsedTime: 89.4 seconds RetCode: 0 Status: OK PackageFile: SIAMCAT_2.8.0.zip PackageFileSize: 10.35 MiB