Package: SIAMCAT Version: 2.8.0 Command: /home/biocbuild/bbs-3.19-bioc/R/bin/R CMD build --keep-empty-dirs --no-resave-data SIAMCAT StartedAt: 2024-10-16 20:50:07 -0400 (Wed, 16 Oct 2024) EndedAt: 2024-10-16 20:53:17 -0400 (Wed, 16 Oct 2024) EllapsedTime: 189.4 seconds RetCode: 0 Status: OK PackageFile: SIAMCAT_2.8.0.tar.gz PackageFileSize: 18.73 MiB