Package: SIAMCAT Version: 2.8.0 Command: /Library/Frameworks/R.framework/Resources/bin/R CMD build --keep-empty-dirs --no-resave-data SIAMCAT StartedAt: 2024-10-16 23:19:45 -0400 (Wed, 16 Oct 2024) EndedAt: 2024-10-16 23:29:31 -0400 (Wed, 16 Oct 2024) EllapsedTime: 586.4 seconds RetCode: 0 Status: OK PackageFile: SIAMCAT_2.8.0.tar.gz PackageFileSize: 18.86 MiB