Package: SIAMCAT Version: 2.8.0 Command: rm -rf SIAMCAT.buildbin-libdir && mkdir SIAMCAT.buildbin-libdir && /Users/biocbuild/BBS/utils/build-universal.sh SIAMCAT_2.8.0.tar.gz /Library/Frameworks/R.framework/Resources/bin/R SIAMCAT.buildbin-libdir StartedAt: 2024-10-17 17:12:15 -0400 (Thu, 17 Oct 2024) EndedAt: 2024-10-17 17:13:39 -0400 (Thu, 17 Oct 2024) EllapsedTime: 84.2 seconds RetCode: 0 Status: OK PackageFile: SIAMCAT_2.8.0.tgz PackageFileSize: 10.76 MiB