Package: SIAMCAT Version: 2.8.0 Command: /home/biocbuild/R/R-beta-2024-04-15_r86425/bin/R CMD check --install=check:SIAMCAT.install-out.txt --library=/home/biocbuild/R/R-beta-2024-04-15_r86425/site-library --no-vignettes --timings SIAMCAT_2.8.0.tar.gz StartedAt: 2024-05-09 11:56:12 -0000 (Thu, 09 May 2024) EndedAt: 2024-05-09 12:01:59 -0000 (Thu, 09 May 2024) EllapsedTime: 346.7 seconds RetCode: 0 Status: OK CheckDir: SIAMCAT.Rcheck Warnings: 0