Package: SIAMCAT Version: 2.8.0 Command: /Library/Frameworks/R.framework/Resources/bin/R CMD INSTALL SIAMCAT StartedAt: 2024-10-16 18:08:15 -0400 (Wed, 16 Oct 2024) EndedAt: 2024-10-16 18:08:49 -0400 (Wed, 16 Oct 2024) EllapsedTime: 34.4 seconds RetCode: 0 Status: OK