Package: SIAMCAT Version: 2.8.0 Command: /Library/Frameworks/R.framework/Resources/bin/R CMD build --keep-empty-dirs --no-resave-data SIAMCAT StartedAt: 2024-10-17 09:16:23 -0400 (Thu, 17 Oct 2024) EndedAt: 2024-10-17 09:19:20 -0400 (Thu, 17 Oct 2024) EllapsedTime: 176.8 seconds RetCode: 1 Status: ERROR PackageFile: None PackageFileSize: NA