Package: SIAMCAT Version: 2.8.0 Command: rm -rf SIAMCAT.buildbin-libdir && mkdir SIAMCAT.buildbin-libdir && /Users/biocbuild/BBS/utils/build-universal.sh SIAMCAT_2.8.0.tar.gz /Library/Frameworks/R.framework/Resources/bin/R SIAMCAT.buildbin-libdir StartedAt: 2024-10-15 20:18:09 -0400 (Tue, 15 Oct 2024) EndedAt: 2024-10-15 20:18:55 -0400 (Tue, 15 Oct 2024) EllapsedTime: 46.0 seconds RetCode: 0 Status: OK PackageFile: SIAMCAT_2.8.0.tgz PackageFileSize: 10.77 MiB