Package: SGSeq Version: 1.38.0 Command: chmod a+r SGSeq -R && E:\biocbuild\bbs-3.19-bioc\R\bin\R.exe CMD build --keep-empty-dirs --no-resave-data SGSeq StartedAt: 2024-10-16 21:56:10 -0400 (Wed, 16 Oct 2024) EndedAt: 2024-10-16 22:00:50 -0400 (Wed, 16 Oct 2024) EllapsedTime: 279.6 seconds RetCode: 0 Status: OK PackageFile: SGSeq_1.38.0.tar.gz PackageFileSize: 1.644 MiB