Package: SGSeq Version: 1.38.0 Command: F:\biocbuild\bbs-3.19-bioc\R\bin\R.exe CMD INSTALL SGSeq StartedAt: 2024-06-26 16:04:55 -0400 (Wed, 26 Jun 2024) EndedAt: 2024-06-26 16:06:01 -0400 (Wed, 26 Jun 2024) EllapsedTime: 66.2 seconds RetCode: 0 Status: OK