Package: SGSeq Version: 1.38.0 Command: /home/biocbuild/bbs-3.19-bioc/R/bin/R CMD INSTALL SGSeq StartedAt: 2024-10-16 16:04:52 -0400 (Wed, 16 Oct 2024) EndedAt: 2024-10-16 16:05:32 -0400 (Wed, 16 Oct 2024) EllapsedTime: 39.1 seconds RetCode: 0 Status: OK