Package: SGSeq Version: 1.38.0 Command: rm -rf SGSeq.buildbin-libdir && mkdir SGSeq.buildbin-libdir && /Users/biocbuild/BBS/utils/build-universal.sh SGSeq_1.38.0.tar.gz /Library/Frameworks/R.framework/Resources/bin/R SGSeq.buildbin-libdir StartedAt: 2024-06-10 00:39:47 -0400 (Mon, 10 Jun 2024) EndedAt: 2024-06-10 00:40:44 -0400 (Mon, 10 Jun 2024) EllapsedTime: 56.7 seconds RetCode: 0 Status: OK PackageFile: SGSeq_1.38.0.tgz PackageFileSize: 1.777 MiB