Package: SGSeq Version: 1.38.0 Command: /Library/Frameworks/R.framework/Resources/bin/R CMD build --keep-empty-dirs --no-resave-data SGSeq StartedAt: 2024-06-10 04:48:36 -0400 (Mon, 10 Jun 2024) EndedAt: 2024-06-10 04:52:54 -0400 (Mon, 10 Jun 2024) EllapsedTime: 258.2 seconds RetCode: 0 Status: OK PackageFile: SGSeq_1.38.0.tar.gz PackageFileSize: 1.748 MiB