Package: SGSeq Version: 1.38.0 Command: /Library/Frameworks/R.framework/Resources/bin/R CMD build --keep-empty-dirs --no-resave-data SGSeq StartedAt: 2024-10-17 09:14:14 -0400 (Thu, 17 Oct 2024) EndedAt: 2024-10-17 09:17:40 -0400 (Thu, 17 Oct 2024) EllapsedTime: 205.9 seconds RetCode: 0 Status: OK PackageFile: SGSeq_1.38.0.tar.gz PackageFileSize: 1.747 MiB